BEGIN:VCALENDAR
VERSION:2.0
PRODID:-//Scattergram Counselling and Consulting - ECPv6.15.20//NONSGML v1.0//EN
CALSCALE:GREGORIAN
METHOD:PUBLISH
X-ORIGINAL-URL:https://scattergramcc.com
X-WR-CALDESC:Events for Scattergram Counselling and Consulting
REFRESH-INTERVAL;VALUE=DURATION:PT1H
X-Robots-Tag:noindex
X-PUBLISHED-TTL:PT1H
BEGIN:VTIMEZONE
TZID:America/Toronto
BEGIN:DAYLIGHT
TZOFFSETFROM:-0500
TZOFFSETTO:-0400
TZNAME:EDT
DTSTART:20230312T070000
END:DAYLIGHT
BEGIN:STANDARD
TZOFFSETFROM:-0400
TZOFFSETTO:-0500
TZNAME:EST
DTSTART:20231105T060000
END:STANDARD
BEGIN:DAYLIGHT
TZOFFSETFROM:-0500
TZOFFSETTO:-0400
TZNAME:EDT
DTSTART:20240310T070000
END:DAYLIGHT
BEGIN:STANDARD
TZOFFSETFROM:-0400
TZOFFSETTO:-0500
TZNAME:EST
DTSTART:20241103T060000
END:STANDARD
BEGIN:DAYLIGHT
TZOFFSETFROM:-0500
TZOFFSETTO:-0400
TZNAME:EDT
DTSTART:20250309T070000
END:DAYLIGHT
BEGIN:STANDARD
TZOFFSETFROM:-0400
TZOFFSETTO:-0500
TZNAME:EST
DTSTART:20251102T060000
END:STANDARD
END:VTIMEZONE
BEGIN:VEVENT
DTSTART;TZID=America/Toronto:20240527T183000
DTEND;TZID=America/Toronto:20240527T203000
DTSTAMP:20260422T150732
CREATED:20240204T050327Z
LAST-MODIFIED:20240213T234653Z
UID:9097-1716834600-1716841800@scattergramcc.com
SUMMARY:Putting Your Neurodivergent Life to Music: A Two-Part Songwriting Workshop
DESCRIPTION:Putting Your Neurodivergent Life to Music: A Two-Part Songwriting Workshop \n			\n			\n				\n				\n				\n				\n			\n				\n				\n				\n				\n				\n				\n				\n				\n				\n				\n				Songwriting offers a fun and powerful way to explore and express thoughts and feelings. In this two-part workshop\, we’ll start with learning the basics about how to write an original song\, and then you’ll be guided through brainstorming and writing exercises to help you craft meaningful personal lyrics in your own uniquely neurodivergent* style. Session one will focus on the basic parts of a song\, and tips for using a song to tell your story. In session two you can share your lyrics for feedback\, and we’ll talk about how to find rhythm and a melody that matches the tone of your lyrics\, so you can sing your own song if you wish (but it won’t be required)! \nThis introductory workshop is suitable for ALL eighteen* years + neurodivergent** adults. \nNo musical background or instrument is needed!  \n*If you’re under 18 and this sounds fun\, email us and we’ll try to make it happen!**Self or other-identified – no diagnosis necessary \n			\n			\n				\n				\n				\n				\n			\n				\n				\n				\n				\n				\n				\n				\n				\n				\n				\n				FACILITATORS\n			\n			\n				\n				\n				\n				\n			\n				\n				\n				\n				\n				\n				\n				\n				\n				\n				\n				\n			\n			\n				\n				\n				\n				\n				\n				\n				\n				\n				\n				Maureen Pollard\nMSW\, RSW\nMaureen is a Registered Social Worker and song-writer. She specializes in providing compassionate care for people experiencing grief and trauma\, and has developed a therapeutic writing and songwriting program to support people in wellness and healing. \n			\n			\n				\n				\n				\n				\n			\n				\n				\n				\n				\n				\n				\n				\n				\n				\n				\n				\n			\n			\n				\n				\n				\n				\n				\n				\n				\n				\n				\n				Wendy McGuire\nMSW\, RSW\, PhD\nWendy McGuire\, MSW\, RSW\, is a Registered Social Worker who knows absolutely nothing about song-writing. You can’t possibly know less than she does\, so don’t be afraid to try it out! \n			\n			\n				\n				\n				\n				\n			\n				\n				\n				\n				\n				\n				\n				\n				\n				\n				\n				EVENT DETAILS\n  \nDates:Monday May 27 and June 3\, 2024 \nTimes: 6:30 – 8:30 pm EST \nFee: $100 \nLocation: Zoom \nTo register: Complete the form and we’ll get back to you \nWe welcome Writing Your Neurodivergent Life participants to attend\, but each course is standalone and does not require participation in the other. \n			\n			\n				\n				\n				\n				\n				\n				\n				\n				\n				\n				\n	Notice: JavaScript is required for this content.\nNo Fields Found.
URL:https://scattergramcc.com/calendar/putting-your-neurodivergent-life-to-music-a-two-part-songwriting-workshop/
LOCATION:Zoom\, Canada
CATEGORIES:Short Courses
ATTACH;FMTTYPE=image/jpeg:https://scattergramcc.com/wp-content/uploads/girl-5835656_1280.jpg
END:VEVENT
END:VCALENDAR